BEGIN:VCALENDAR
VERSION:2.0
PRODID:-//Charter Operated Programs - ECPv6.15.18//NONSGML v1.0//EN
CALSCALE:GREGORIAN
METHOD:PUBLISH
X-WR-CALNAME:Charter Operated Programs
X-ORIGINAL-URL:https://copatlausd.net
X-WR-CALDESC:Events for Charter Operated Programs
REFRESH-INTERVAL;VALUE=DURATION:PT1H
X-Robots-Tag:noindex
X-PUBLISHED-TTL:PT1H
BEGIN:VTIMEZONE
TZID:UTC
BEGIN:STANDARD
TZOFFSETFROM:+0000
TZOFFSETTO:+0000
TZNAME:UTC
DTSTART:20250101T000000
END:STANDARD
END:VTIMEZONE
BEGIN:VEVENT
DTSTART;TZID=UTC:20260422T090000
DTEND;TZID=UTC:20260422T110000
DTSTAMP:20260421T115944
CREATED:20260326T202510Z
LAST-MODIFIED:20260327T142947Z
UID:5359-1776848400-1776855600@copatlausd.net
SUMMARY:Batería IV Assessment Webinar
DESCRIPTION:This training will go over administration of Batería IV Woodcock-Muñoz (Batería IV). The Bateria IV is the parallel Spanish version of Woodcock-Johnson® IV (WJ IV™).
URL:https://copatlausd.net/event/bateria-iv-assessment-webinar/
CATEGORIES:Feature,School Supports
ATTACH;FMTTYPE=image/jpeg:https://copatlausd.net/wp-content/uploads/2021/05/event-test7-e1661548803202.jpg
END:VEVENT
END:VCALENDAR