BEGIN:VCALENDAR
VERSION:2.0
PRODID:-//Charter Operated Programs - ECPv6.15.18//NONSGML v1.0//EN
CALSCALE:GREGORIAN
METHOD:PUBLISH
X-WR-CALNAME:Charter Operated Programs
X-ORIGINAL-URL:https://copatlausd.net
X-WR-CALDESC:Events for Charter Operated Programs
REFRESH-INTERVAL;VALUE=DURATION:PT1H
X-Robots-Tag:noindex
X-PUBLISHED-TTL:PT1H
BEGIN:VTIMEZONE
TZID:UTC
BEGIN:STANDARD
TZOFFSETFROM:+0000
TZOFFSETTO:+0000
TZNAME:UTC
DTSTART:20250101T000000
END:STANDARD
END:VTIMEZONE
BEGIN:VEVENT
DTSTART;TZID=UTC:20260323T090000
DTEND;TZID=UTC:20260323T120000
DTSTAMP:20260421T163616
CREATED:20260311T222920Z
LAST-MODIFIED:20260311T223654Z
UID:5346-1774256400-1774267200@copatlausd.net
SUMMARY:Woodcock Johnson V Webinar
DESCRIPTION:This training will go over administration of the Woodcock Johnson V Achievement: Administration of Standard Battery (Tests 1-11). The background\, development\, and organization of the assessment will be introduced\, as will the theoretical foundations\, technical adequacy\, and the range of interpretive data available.
URL:https://copatlausd.net/event/woodcock-johnson-v-webinar/
CATEGORIES:Feature,School Supports
ATTACH;FMTTYPE=image/jpeg:https://copatlausd.net/wp-content/uploads/2021/05/event-test7-e1661548803202.jpg
END:VEVENT
END:VCALENDAR