BEGIN:VCALENDAR
VERSION:2.0
PRODID:-//Charter Operated Programs - ECPv6.15.18//NONSGML v1.0//EN
CALSCALE:GREGORIAN
METHOD:PUBLISH
X-WR-CALNAME:Charter Operated Programs
X-ORIGINAL-URL:https://copatlausd.net
X-WR-CALDESC:Events for Charter Operated Programs
REFRESH-INTERVAL;VALUE=DURATION:PT1H
X-Robots-Tag:noindex
X-PUBLISHED-TTL:PT1H
BEGIN:VTIMEZONE
TZID:UTC
BEGIN:STANDARD
TZOFFSETFROM:+0000
TZOFFSETTO:+0000
TZNAME:UTC
DTSTART:20240101T000000
END:STANDARD
END:VTIMEZONE
BEGIN:VEVENT
DTSTART;TZID=UTC:20251107T120000
DTEND;TZID=UTC:20251107T140000
DTSTAMP:20260421T193829
CREATED:20251009T190735Z
LAST-MODIFIED:20251009T190735Z
UID:5288-1762516800-1762524000@copatlausd.net
SUMMARY:Option 3 Executive Council Meeting
DESCRIPTION:Meeting reserved for Option 3 Executive Council representatives.
URL:https://copatlausd.net/event/option-3-executive-council-meeting/
CATEGORIES:Feature,Option 3 Council Meetings
END:VEVENT
END:VCALENDAR